BEGIN:VCALENDAR
VERSION:2.0
PRODID:-//FSEC® - ECPv6.15.15//NONSGML v1.0//EN
CALSCALE:GREGORIAN
METHOD:PUBLISH
X-WR-CALNAME:FSEC®
X-ORIGINAL-URL:https://energyresearch.ucf.edu
X-WR-CALDESC:Events for FSEC®
REFRESH-INTERVAL;VALUE=DURATION:PT1H
X-Robots-Tag:noindex
X-PUBLISHED-TTL:PT1H
BEGIN:VTIMEZONE
TZID:America/New_York
BEGIN:DAYLIGHT
TZOFFSETFROM:-0500
TZOFFSETTO:-0400
TZNAME:EDT
DTSTART:20230312T070000
END:DAYLIGHT
BEGIN:STANDARD
TZOFFSETFROM:-0400
TZOFFSETTO:-0500
TZNAME:EST
DTSTART:20231105T060000
END:STANDARD
BEGIN:DAYLIGHT
TZOFFSETFROM:-0500
TZOFFSETTO:-0400
TZNAME:EDT
DTSTART:20240310T070000
END:DAYLIGHT
BEGIN:STANDARD
TZOFFSETFROM:-0400
TZOFFSETTO:-0500
TZNAME:EST
DTSTART:20241103T060000
END:STANDARD
BEGIN:DAYLIGHT
TZOFFSETFROM:-0500
TZOFFSETTO:-0400
TZNAME:EDT
DTSTART:20250309T070000
END:DAYLIGHT
BEGIN:STANDARD
TZOFFSETFROM:-0400
TZOFFSETTO:-0500
TZNAME:EST
DTSTART:20251102T060000
END:STANDARD
END:VTIMEZONE
BEGIN:VEVENT
DTSTART;TZID=America/New_York:20240507T080000
DTEND;TZID=America/New_York:20240507T170000
DTSTAMP:20260425T230118
CREATED:20231024T213454Z
LAST-MODIFIED:20231024T213454Z
UID:10464-1715068800-1715101200@energyresearch.ucf.edu
SUMMARY:Residential Building Air Leakage [Blower Door] Testing\, 2024-05-07
DESCRIPTION:Learn how to perform residential building air leakage tests using a blower door in compliance with 2014 Florida Residential Energy Code.Learn More.
URL:https://energyresearch.ucf.edu/event/residential-building-air-leakage-blower-door-testing-2024-05-07/
CATEGORIES:Courses
END:VEVENT
BEGIN:VEVENT
DTSTART;TZID=America/New_York:20240508T080000
DTEND;TZID=America/New_York:20240508T170000
DTSTAMP:20260425T230118
CREATED:20231024T213458Z
LAST-MODIFIED:20231024T213458Z
UID:10482-1715155200-1715187600@energyresearch.ucf.edu
SUMMARY:Residential Building Duct Testing\, 2024-05-08
DESCRIPTION:Learn how to perform Residential Building Duct Testing.Learn More.
URL:https://energyresearch.ucf.edu/event/residential-building-duct-testing-2024-05-08/
CATEGORIES:Courses
END:VEVENT
BEGIN:VEVENT
DTSTART;TZID=America/New_York:20240508T080000
DTEND;TZID=America/New_York:20240508T170000
DTSTAMP:20260425T230118
CREATED:20231024T213459Z
LAST-MODIFIED:20231024T213459Z
UID:10488-1715155200-1715187600@energyresearch.ucf.edu
SUMMARY:Measurement and Verification of Continuous Whole-House  Mechanical Ventilation Systems\, 2024-05-08
DESCRIPTION:This 4-hour instructor-led course focuses on different types of residential mechanical ventilation equipment used in whole-house continuous mechanical ventilation. Learn More.
URL:https://energyresearch.ucf.edu/event/measurement-and-verification-of-continuous-whole-house-mechanical-ventilation-systems-2024-05-08/
CATEGORIES:Courses
END:VEVENT
BEGIN:VEVENT
DTSTART;TZID=America/New_York:20240509T080000
DTEND;TZID=America/New_York:20240509T170000
DTSTAMP:20260425T230118
CREATED:20231024T213501Z
LAST-MODIFIED:20231024T213501Z
UID:10494-1715241600-1715274000@energyresearch.ucf.edu
SUMMARY:Residential Energy Auditor\, 2024-05-09
DESCRIPTION:A Class 2 rater can rate new or existing buildings using site audit data.Learn More.
URL:https://energyresearch.ucf.edu/event/residential-energy-auditor-2024-05-09/
CATEGORIES:Courses
END:VEVENT
BEGIN:VEVENT
DTSTART;TZID=America/New_York:20240513T080000
DTEND;TZID=America/New_York:20240513T170000
DTSTAMP:20260425T230118
CREATED:20231024T213454Z
LAST-MODIFIED:20231024T213454Z
UID:10467-1715587200-1715619600@energyresearch.ucf.edu
SUMMARY:HERS Energy Rater\, 2024-05-13
DESCRIPTION:Learn More.
URL:https://energyresearch.ucf.edu/event/hers-energy-rater-2024-05-13/
CATEGORIES:Courses
END:VEVENT
BEGIN:VEVENT
DTSTART;TZID=America/New_York:20240522T080000
DTEND;TZID=America/New_York:20240522T170000
DTSTAMP:20260425T230118
CREATED:20231218T134611Z
LAST-MODIFIED:20231218T134611Z
UID:10568-1716364800-1716397200@energyresearch.ucf.edu
SUMMARY:Overview of the 8th Edition (2023) Residential Florida Energy Conservation Code [Live Webinar Only]\, 2024-05-22
DESCRIPTION:Gain a working knowledge of the latest mandatory provisions and performance\, prescriptive and Energy Rating Index compliance options\, and learn about building air leakage (blower door) and duct leakage testing and mechanical ventilation requirements.Learn More.
URL:https://energyresearch.ucf.edu/event/overview-of-the-8th-edition-2023-residential-florida-energy-conservation-code-live-webinar-only-2024-05-22/
CATEGORIES:Courses
END:VEVENT
BEGIN:VEVENT
DTSTART;TZID=America/New_York:20240523T080000
DTEND;TZID=America/New_York:20240523T170000
DTSTAMP:20260425T230118
CREATED:20231218T134616Z
LAST-MODIFIED:20231218T134616Z
UID:10585-1716451200-1716483600@energyresearch.ucf.edu
SUMMARY:Florida Commercial Energy Code Compliance: Methods\, Tools and Verification 4-Hour [Live Webinar Only]\, 2024-05-23
DESCRIPTION:This 4-hour instructor led course incorporates lecture\, demonstration and exercises to provide students with an overview of building energy use contributors\, Florida Commercial Energy Code compliance methods\, tools and field verification issues.Learn More.
URL:https://energyresearch.ucf.edu/event/florida-commercial-energy-code-compliance-methods-tools-and-verification-4-hour-live-webinar-only-2024-05-23/
CATEGORIES:Courses
END:VEVENT
END:VCALENDAR